BEGIN:VCALENDAR
VERSION:2.0
PRODID:-//SVP Sektion Burgdorf //NONSGML Events //EN
CALSCALE:GREGORIAN
X-WR-CALNAME:SVP Sektion Burgdorf
BEGIN:VEVENT
CREATED:20211027T055752Z
UID:2484
DTEND:20220925T000000
DTSTART:20220925T000000
DTSTAMP:20260424T165102Z
LOCATION:
DESCRIPTION:
SUMMARY:Abstimmungssonntag
ORGANIZER:
URL;VALUE=URI:https://www.svp-burgdorf.ch/aktuell/termine/abstimmungssonntag-8/
TRANSP:OPAQUE
END:VEVENT
END:VCALENDAR
